BEGIN:VCALENDAR
VERSION:2.0
PRODID:icalendar-ruby
CALSCALE:GREGORIAN
METHOD:PUBLISH
BEGIN:VEVENT
DTSTAMP:20260426T041344Z
UID:80-1356888@templebaptistkpt.com
DTSTART:20261103T230000Z
DTEND:20261104T000000Z
CLASS:PUBLIC
CREATED:20260425T205112
DESCRIPTION:We are excited to announce that we will be starting a Men’s B
 ible Study for men of all ages. This will be a time for us to gather toget
 her\, study the fundamentals of God’s Word\, and grow in our walk with C
 hrist.\nWhether you are new to the faith or have been a Christian for many
  years\, this study will help you build a strong foundation in the Scriptu
 res. We will focus on understanding the basics of the Bible\, applying the
 m to our daily lives\, and encouraging one another in the Lord. \nRefresh
 ments will be provided!
LAST-MODIFIED:20260425T205112
LOCATION:Temple Baptist Church
SUMMARY:Men's Weekly Bible study 
URL;VALUE=URI:https://www.templebaptistkpt.com/events/mens-weekly-bible-stu
 dy/2026-11-03
ATTACH;FILENAME="ChatGPT Image Aug 28, 2025, 01_49_50 PM.png";FMTTYPE=image
 /png:https://dq5pwpg1q8ru0.cloudfront.net/2025/08/28/17/51/33/3fe145e6-f15
 9-4f23-a461-c87c78cde48c/ChatGPT%20Image%20Aug%2028,%202025,%2001_49_50%20
 PM.png
END:VEVENT
END:VCALENDAR
